Package: ExCluster Version: 1.25.0 Command: /home/biocbuild/bbs-3.21-bioc/R/bin/R CMD build --keep-empty-dirs --no-resave-data ExCluster StartedAt: 2025-02-09 17:12:34 -0500 (Sun, 09 Feb 2025) EndedAt: 2025-02-09 17:13:18 -0500 (Sun, 09 Feb 2025) EllapsedTime: 44.3 seconds RetCode: 0 Status: OK PackageFile: ExCluster_1.25.0.tar.gz PackageFileSize: 404.8 KiB