Package: ExCluster Version: 1.25.0 Command: /home/biocbuild/bbs-3.21-bioc/R/bin/R CMD INSTALL ExCluster StartedAt: 2025-02-09 15:26:07 -0500 (Sun, 09 Feb 2025) EndedAt: 2025-02-09 15:26:38 -0500 (Sun, 09 Feb 2025) EllapsedTime: 31.0 seconds RetCode: 0 Status: OK