Package: ExiMiR Version: 2.49.0 Command: /Library/Frameworks/R.framework/Resources/bin/R CMD build --keep-empty-dirs --no-resave-data ExiMiR StartedAt: 2025-02-09 16:17:49 -0500 (Sun, 09 Feb 2025) EndedAt: 2025-02-09 16:18:12 -0500 (Sun, 09 Feb 2025) EllapsedTime: 23.2 seconds RetCode: 0 Status: OK PackageFile: ExiMiR_2.49.0.tar.gz PackageFileSize: 1.506 MiB