Package: ExiMiR Version: 2.49.0 Command: /Library/Frameworks/R.framework/Resources/bin/R CMD check --install=check:ExiMiR.install-out.txt --library=/Library/Frameworks/R.framework/Resources/library --no-vignettes --timings ExiMiR_2.49.0.tar.gz StartedAt: 2025-02-03 19:48:11 -0500 (Mon, 03 Feb 2025) EndedAt: 2025-02-03 19:48:31 -0500 (Mon, 03 Feb 2025) EllapsedTime: 20.2 seconds RetCode: 0 Status: OK CheckDir: ExiMiR.Rcheck Warnings: 0