Package: ExiMiR Version: 2.49.0 Command: /Library/Frameworks/R.framework/Resources/bin/R CMD INSTALL ExiMiR StartedAt: 2025-02-09 15:02:44 -0500 (Sun, 09 Feb 2025) EndedAt: 2025-02-09 15:02:47 -0500 (Sun, 09 Feb 2025) EllapsedTime: 2.3 seconds RetCode: 0 Status: OK