Package: ExiMiR Version: 2.49.0 Command: /home/biocbuild/R/R/bin/R CMD build --keep-empty-dirs --no-resave-data ExiMiR StartedAt: 2025-01-28 22:50:04 -0000 (Tue, 28 Jan 2025) EndedAt: 2025-01-28 22:51:52 -0000 (Tue, 28 Jan 2025) EllapsedTime: 108.1 seconds RetCode: 0 Status: OK PackageFile: ExiMiR_2.49.0.tar.gz PackageFileSize: 1.491 MiB