Package: ExiMiR Version: 2.49.0 Command: /home/biocbuild/R/R/bin/R CMD check --install=check:ExiMiR.install-out.txt --library=/home/biocbuild/R/R/site-library --no-vignettes --timings ExiMiR_2.49.0.tar.gz StartedAt: 2025-01-28 10:31:11 -0000 (Tue, 28 Jan 2025) EndedAt: 2025-01-28 10:32:15 -0000 (Tue, 28 Jan 2025) EllapsedTime: 64.1 seconds RetCode: 0 Status: OK CheckDir: ExiMiR.Rcheck Warnings: 0