Package: ExiMiR Version: 2.49.0 Command: /Library/Frameworks/R.framework/Resources/bin/R CMD build --keep-empty-dirs --no-resave-data ExiMiR StartedAt: 2025-02-03 16:45:02 -0500 (Mon, 03 Feb 2025) EndedAt: 2025-02-03 16:46:12 -0500 (Mon, 03 Feb 2025) EllapsedTime: 70.0 seconds RetCode: 0 Status: OK PackageFile: ExiMiR_2.49.0.tar.gz PackageFileSize: 1.506 MiB