Package: ExiMiR Version: 2.49.0 Command: /home/biocbuild/bbs-3.21-bioc/R/bin/R CMD check --install=check:ExiMiR.install-out.txt --library=/home/biocbuild/bbs-3.21-bioc/R/site-library --timings ExiMiR_2.49.0.tar.gz StartedAt: 2025-02-04 22:12:53 -0500 (Tue, 04 Feb 2025) EndedAt: 2025-02-04 22:14:43 -0500 (Tue, 04 Feb 2025) EllapsedTime: 110.1 seconds RetCode: 0 Status: OK CheckDir: ExiMiR.Rcheck Warnings: 0