Package: ExiMiR Version: 2.49.0 Command: /home/biocbuild/bbs-3.21-bioc/R/bin/R CMD INSTALL ExiMiR StartedAt: 2025-02-04 15:11:09 -0500 (Tue, 04 Feb 2025) EndedAt: 2025-02-04 15:11:16 -0500 (Tue, 04 Feb 2025) EllapsedTime: 6.3 seconds RetCode: 0 Status: OK