Package: ExiMiR Version: 2.49.0 Command: rm -rf ExiMiR.buildbin-libdir && mkdir ExiMiR.buildbin-libdir && E:\biocbuild\bbs-3.21-bioc\R\bin\R.exe CMD INSTALL --build --library=ExiMiR.buildbin-libdir ExiMiR_2.49.0.tar.gz StartedAt: 2025-02-10 07:43:46 -0500 (Mon, 10 Feb 2025) EndedAt: 2025-02-10 07:43:58 -0500 (Mon, 10 Feb 2025) EllapsedTime: 12.5 seconds RetCode: 0 Status: OK PackageFile: ExiMiR_2.49.0.zip PackageFileSize: 1.067 MiB