Package: ExiMiR Version: 2.49.0 Command: chmod a+r ExiMiR -R && E:\biocbuild\bbs-3.21-bioc\R\bin\R.exe CMD build --keep-empty-dirs --no-resave-data ExiMiR StartedAt: 2025-02-03 18:51:05 -0500 (Mon, 03 Feb 2025) EndedAt: 2025-02-03 18:52:26 -0500 (Mon, 03 Feb 2025) EllapsedTime: 80.1 seconds RetCode: 0 Status: OK PackageFile: ExiMiR_2.49.0.tar.gz PackageFileSize: 1.22 MiB