Package: ExiMiR Version: 2.49.0 Command: E:\biocbuild\bbs-3.21-bioc\R\bin\R.exe CMD check --no-multiarch --install=check:ExiMiR.install-out.txt --library=E:\biocbuild\bbs-3.21-bioc\R\library --no-vignettes --timings ExiMiR_2.49.0.tar.gz StartedAt: 2025-02-04 01:27:16 -0500 (Tue, 04 Feb 2025) EndedAt: 2025-02-04 01:28:28 -0500 (Tue, 04 Feb 2025) EllapsedTime: 71.7 seconds RetCode: 0 Status: OK CheckDir: ExiMiR.Rcheck Warnings: 0