Package: ExperimentHubData Version: 1.33.0 Command: /Library/Frameworks/R.framework/Resources/bin/R CMD build --keep-empty-dirs --no-resave-data ExperimentHubData StartedAt: 2025-02-09 16:43:56 -0500 (Sun, 09 Feb 2025) EndedAt: 2025-02-09 16:44:42 -0500 (Sun, 09 Feb 2025) EllapsedTime: 45.7 seconds RetCode: 0 Status: OK PackageFile: ExperimentHubData_1.33.0.tar.gz PackageFileSize: 223 KiB