Package: ExperimentHubData Version: 1.33.0 Command: /Library/Frameworks/R.framework/Resources/bin/R CMD check --install=check:ExperimentHubData.install-out.txt --library=/Library/Frameworks/R.framework/Resources/library --no-vignettes --timings ExperimentHubData_1.33.0.tar.gz StartedAt: 2025-02-09 20:38:22 -0500 (Sun, 09 Feb 2025) EndedAt: 2025-02-09 20:43:52 -0500 (Sun, 09 Feb 2025) EllapsedTime: 329.8 seconds RetCode: 0 Status: WARNINGS CheckDir: ExperimentHubData.Rcheck Warnings: 1