Package: ExperimentHubData Version: 1.33.0 Command: /home/biocbuild/bbs-3.21-bioc/R/bin/R CMD build --keep-empty-dirs --no-resave-data ExperimentHubData StartedAt: 2025-02-12 17:09:37 -0500 (Wed, 12 Feb 2025) EndedAt: 2025-02-12 17:10:20 -0500 (Wed, 12 Feb 2025) EllapsedTime: 43.3 seconds RetCode: 0 Status: OK PackageFile: ExperimentHubData_1.33.0.tar.gz PackageFileSize: 222.9 KiB