Package: ExperimentHubData Version: 1.33.0 Command: chmod a+r ExperimentHubData -R && E:\biocbuild\bbs-3.21-bioc\R\bin\R.exe CMD build --keep-empty-dirs --no-resave-data ExperimentHubData StartedAt: 2025-02-09 18:39:19 -0500 (Sun, 09 Feb 2025) EndedAt: 2025-02-09 18:40:06 -0500 (Sun, 09 Feb 2025) EllapsedTime: 47.9 seconds RetCode: 0 Status: OK PackageFile: ExperimentHubData_1.33.0.tar.gz PackageFileSize: 223.1 KiB