Package: ExperimentSubset Version: 1.17.0 Command: /Library/Frameworks/R.framework/Resources/bin/R CMD check --install=check:ExperimentSubset.install-out.txt --library=/Library/Frameworks/R.framework/Resources/library --no-vignettes --timings ExperimentSubset_1.17.0.tar.gz StartedAt: 2025-02-04 19:13:01 -0500 (Tue, 04 Feb 2025) EndedAt: 2025-02-04 19:14:55 -0500 (Tue, 04 Feb 2025) EllapsedTime: 114.4 seconds RetCode: 0 Status: OK CheckDir: ExperimentSubset.Rcheck Warnings: 0