Package: ExperimentSubset Version: 1.17.0 Command: /Library/Frameworks/R.framework/Resources/bin/R CMD INSTALL ExperimentSubset StartedAt: 2025-02-04 15:13:05 -0500 (Tue, 04 Feb 2025) EndedAt: 2025-02-04 15:13:18 -0500 (Tue, 04 Feb 2025) EllapsedTime: 13.1 seconds RetCode: 0 Status: OK