Package: ExperimentSubset Version: 1.17.0 Command: /home/biocbuild/R/R/bin/R CMD INSTALL ExperimentSubset StartedAt: 2025-01-29 20:00:23 -0000 (Wed, 29 Jan 2025) EndedAt: 2025-01-29 20:01:09 -0000 (Wed, 29 Jan 2025) EllapsedTime: 45.9 seconds RetCode: 0 Status: OK