Package: ExperimentSubset Version: 1.17.0 Command: rm -rf ExperimentSubset.buildbin-libdir && mkdir ExperimentSubset.buildbin-libdir && /Users/biocbuild/BBS/utils/build-universal.sh ExperimentSubset_1.17.0.tar.gz /Library/Frameworks/R.framework/Resources/bin/R ExperimentSubset.buildbin-libdir StartedAt: 2025-02-05 00:39:26 -0500 (Wed, 05 Feb 2025) EndedAt: 2025-02-05 00:40:13 -0500 (Wed, 05 Feb 2025) EllapsedTime: 47.5 seconds RetCode: 0 Status: OK PackageFile: ExperimentSubset_1.17.0.tgz PackageFileSize: 707 KiB