Package: ExperimentSubset Version: 1.17.0 Command: /Library/Frameworks/R.framework/Resources/bin/R CMD check --install=check:ExperimentSubset.install-out.txt --library=/Library/Frameworks/R.framework/Resources/library --no-vignettes --timings ExperimentSubset_1.17.0.tar.gz StartedAt: 2025-02-04 20:26:47 -0500 (Tue, 04 Feb 2025) EndedAt: 2025-02-04 20:32:03 -0500 (Tue, 04 Feb 2025) EllapsedTime: 316.1 seconds RetCode: 0 Status: OK CheckDir: ExperimentSubset.Rcheck Warnings: 0