Package: ExperimentSubset Version: 1.17.0 Command: /Library/Frameworks/R.framework/Resources/bin/R CMD INSTALL ExperimentSubset StartedAt: 2025-02-04 15:15:10 -0500 (Tue, 04 Feb 2025) EndedAt: 2025-02-04 15:15:55 -0500 (Tue, 04 Feb 2025) EllapsedTime: 44.6 seconds RetCode: 0 Status: OK