Package: ExperimentSubset Version: 1.17.0 Command: /home/biocbuild/bbs-3.21-bioc/R/bin/R CMD INSTALL ExperimentSubset StartedAt: 2025-02-04 15:22:30 -0500 (Tue, 04 Feb 2025) EndedAt: 2025-02-04 15:23:03 -0500 (Tue, 04 Feb 2025) EllapsedTime: 33.3 seconds RetCode: 0 Status: OK