Package: ExperimentSubset Version: 1.17.0 Command: rm -rf ExperimentSubset.buildbin-libdir && mkdir ExperimentSubset.buildbin-libdir && E:\biocbuild\bbs-3.21-bioc\R\bin\R.exe CMD INSTALL --build --library=ExperimentSubset.buildbin-libdir ExperimentSubset_1.17.0.tar.gz StartedAt: 2025-02-05 07:55:38 -0500 (Wed, 05 Feb 2025) EndedAt: 2025-02-05 08:00:17 -0500 (Wed, 05 Feb 2025) EllapsedTime: 279.5 seconds RetCode: 0 Status: OK PackageFile: ExperimentSubset_1.17.0.zip PackageFileSize: 711.9 KiB