Package: ExperimentSubset Version: 1.17.0 Command: chmod a+r ExperimentSubset -R && E:\biocbuild\bbs-3.21-bioc\R\bin\R.exe CMD build --keep-empty-dirs --no-resave-data ExperimentSubset StartedAt: 2025-02-04 18:41:25 -0500 (Tue, 04 Feb 2025) EndedAt: 2025-02-04 18:42:51 -0500 (Tue, 04 Feb 2025) EllapsedTime: 86.6 seconds RetCode: 0 Status: OK PackageFile: ExperimentSubset_1.17.0.tar.gz PackageFileSize: 307.6 KiB