Package: ExploreModelMatrix Version: 1.19.2 Command: /Library/Frameworks/R.framework/Resources/bin/R CMD build --keep-empty-dirs --no-resave-data ExploreModelMatrix StartedAt: 2025-02-09 16:18:11 -0500 (Sun, 09 Feb 2025) EndedAt: 2025-02-09 16:18:18 -0500 (Sun, 09 Feb 2025) EllapsedTime: 7.1 seconds RetCode: 0 Status: OK PackageFile: ExploreModelMatrix_1.19.2.tar.gz PackageFileSize: 2.611 MiB