Package: ExploreModelMatrix Version: 1.19.2 Command: /Library/Frameworks/R.framework/Resources/bin/R CMD check --install=check:ExploreModelMatrix.install-out.txt --library=/Library/Frameworks/R.framework/Resources/library --no-vignettes --timings ExploreModelMatrix_1.19.2.tar.gz StartedAt: 2025-02-03 19:48:31 -0500 (Mon, 03 Feb 2025) EndedAt: 2025-02-03 19:48:57 -0500 (Mon, 03 Feb 2025) EllapsedTime: 26.3 seconds RetCode: 0 Status: OK CheckDir: ExploreModelMatrix.Rcheck Warnings: 0