Package: ExploreModelMatrix Version: 1.19.2 Command: /home/biocbuild/R/R/bin/R CMD build --keep-empty-dirs --no-resave-data ExploreModelMatrix StartedAt: 2025-01-28 22:50:42 -0000 (Tue, 28 Jan 2025) EndedAt: 2025-01-28 22:51:06 -0000 (Tue, 28 Jan 2025) EllapsedTime: 24.0 seconds RetCode: 0 Status: OK PackageFile: ExploreModelMatrix_1.19.2.tar.gz PackageFileSize: 2.454 MiB