Package: ExploreModelMatrix Version: 1.19.2 Command: /Library/Frameworks/R.framework/Resources/bin/R CMD INSTALL ExploreModelMatrix StartedAt: 2025-02-09 15:25:29 -0500 (Sun, 09 Feb 2025) EndedAt: 2025-02-09 15:25:41 -0500 (Sun, 09 Feb 2025) EllapsedTime: 12.6 seconds RetCode: 0 Status: OK