Package: ExploreModelMatrix Version: 1.19.2 Command: /home/biocbuild/bbs-3.21-bioc/R/bin/R CMD build --keep-empty-dirs --no-resave-data ExploreModelMatrix StartedAt: 2025-02-03 17:21:38 -0500 (Mon, 03 Feb 2025) EndedAt: 2025-02-03 17:21:54 -0500 (Mon, 03 Feb 2025) EllapsedTime: 16.0 seconds RetCode: 0 Status: OK PackageFile: ExploreModelMatrix_1.19.2.tar.gz PackageFileSize: 2.564 MiB