Package: ExploreModelMatrix Version: 1.19.2 Command: /home/biocbuild/bbs-3.21-bioc/R/bin/R CMD INSTALL ExploreModelMatrix StartedAt: 2025-02-03 15:21:47 -0500 (Mon, 03 Feb 2025) EndedAt: 2025-02-03 15:21:56 -0500 (Mon, 03 Feb 2025) EllapsedTime: 8.9 seconds RetCode: 0 Status: OK