Package: ExploreModelMatrix Version: 1.19.2 Command: rm -rf ExploreModelMatrix.buildbin-libdir && mkdir ExploreModelMatrix.buildbin-libdir && E:\biocbuild\bbs-3.21-bioc\R\bin\R.exe CMD INSTALL --build --library=ExploreModelMatrix.buildbin-libdir ExploreModelMatrix_1.19.2.tar.gz StartedAt: 2025-02-04 07:57:37 -0500 (Tue, 04 Feb 2025) EndedAt: 2025-02-04 07:58:25 -0500 (Tue, 04 Feb 2025) EllapsedTime: 47.8 seconds RetCode: 0 Status: OK PackageFile: ExploreModelMatrix_1.19.2.zip PackageFileSize: 2.489 MiB