Package: ExploreModelMatrix Version: 1.19.2 Command: chmod a+r ExploreModelMatrix -R && E:\biocbuild\bbs-3.21-bioc\R\bin\R.exe CMD build --keep-empty-dirs --no-resave-data ExploreModelMatrix StartedAt: 2025-02-03 18:51:28 -0500 (Mon, 03 Feb 2025) EndedAt: 2025-02-03 18:51:52 -0500 (Mon, 03 Feb 2025) EllapsedTime: 23.9 seconds RetCode: 0 Status: OK PackageFile: ExploreModelMatrix_1.19.2.tar.gz PackageFileSize: 2.424 MiB