Package: ExploreModelMatrix Version: 1.19.2 Command: E:\biocbuild\bbs-3.21-bioc\R\bin\R.exe CMD INSTALL ExploreModelMatrix StartedAt: 2025-02-03 15:55:25 -0500 (Mon, 03 Feb 2025) EndedAt: 2025-02-03 15:55:45 -0500 (Mon, 03 Feb 2025) EllapsedTime: 20.2 seconds RetCode: 0 Status: OK