Package: ExpressionAtlas Version: 1.35.0 Command: /Library/Frameworks/R.framework/Resources/bin/R CMD build --keep-empty-dirs --no-resave-data ExpressionAtlas StartedAt: 2025-02-03 16:54:56 -0500 (Mon, 03 Feb 2025) EndedAt: 2025-02-03 16:55:09 -0500 (Mon, 03 Feb 2025) EllapsedTime: 13.1 seconds RetCode: 0 Status: OK PackageFile: ExpressionAtlas_1.35.0.tar.gz PackageFileSize: 319.2 KiB