Package: ExpressionAtlas Version: 1.35.0 Command: /home/biocbuild/R/R/bin/R CMD check --install=check:ExpressionAtlas.install-out.txt --library=/home/biocbuild/R/R/site-library --no-vignettes --timings ExpressionAtlas_1.35.0.tar.gz StartedAt: 2025-01-28 10:32:29 -0000 (Tue, 28 Jan 2025) EndedAt: 2025-01-28 10:36:51 -0000 (Tue, 28 Jan 2025) EllapsedTime: 261.4 seconds RetCode: 0 Status: WARNINGS CheckDir: ExpressionAtlas.Rcheck Warnings: 5