Package: ExpressionAtlas Version: 1.35.0 Command: /home/biocbuild/R/R/bin/R CMD INSTALL ExpressionAtlas StartedAt: 2025-01-29 20:07:17 -0000 (Wed, 29 Jan 2025) EndedAt: 2025-01-29 20:07:49 -0000 (Wed, 29 Jan 2025) EllapsedTime: 31.7 seconds RetCode: 0 Status: OK