Package: ExpressionAtlas Version: 1.35.0 Command: rm -rf ExpressionAtlas.buildbin-libdir && mkdir ExpressionAtlas.buildbin-libdir && /Users/biocbuild/BBS/utils/build-universal.sh ExpressionAtlas_1.35.0.tar.gz /Library/Frameworks/R.framework/Resources/bin/R ExpressionAtlas.buildbin-libdir StartedAt: 2025-02-04 00:33:48 -0500 (Tue, 04 Feb 2025) EndedAt: 2025-02-04 00:34:21 -0500 (Tue, 04 Feb 2025) EllapsedTime: 33.6 seconds RetCode: 0 Status: OK PackageFile: ExpressionAtlas_1.35.0.tgz PackageFileSize: 346.2 KiB