Package: ExpressionAtlas Version: 1.35.0 Command: /Library/Frameworks/R.framework/Resources/bin/R CMD INSTALL ExpressionAtlas StartedAt: 2025-02-03 15:30:37 -0500 (Mon, 03 Feb 2025) EndedAt: 2025-02-03 15:31:08 -0500 (Mon, 03 Feb 2025) EllapsedTime: 30.7 seconds RetCode: 0 Status: OK