Package: ExpressionAtlas Version: 1.35.0 Command: /home/biocbuild/bbs-3.21-bioc/R/bin/R CMD build --keep-empty-dirs --no-resave-data ExpressionAtlas StartedAt: 2025-02-03 17:21:43 -0500 (Mon, 03 Feb 2025) EndedAt: 2025-02-03 17:22:15 -0500 (Mon, 03 Feb 2025) EllapsedTime: 32.1 seconds RetCode: 0 Status: OK PackageFile: ExpressionAtlas_1.35.0.tar.gz PackageFileSize: 318.9 KiB