Package: ExpressionAtlas Version: 1.35.0 Command: /home/biocbuild/bbs-3.21-bioc/R/bin/R CMD INSTALL ExpressionAtlas StartedAt: 2025-02-03 15:57:44 -0500 (Mon, 03 Feb 2025) EndedAt: 2025-02-03 15:58:08 -0500 (Mon, 03 Feb 2025) EllapsedTime: 23.4 seconds RetCode: 0 Status: OK