Package: ExpressionAtlas Version: 1.35.0 Command: rm -rf ExpressionAtlas.buildbin-libdir && mkdir ExpressionAtlas.buildbin-libdir && E:\biocbuild\bbs-3.21-bioc\R\bin\R.exe CMD INSTALL --build --library=ExpressionAtlas.buildbin-libdir ExpressionAtlas_1.35.0.tar.gz StartedAt: 2025-02-04 07:57:40 -0500 (Tue, 04 Feb 2025) EndedAt: 2025-02-04 07:58:14 -0500 (Tue, 04 Feb 2025) EllapsedTime: 34.0 seconds RetCode: 0 Status: OK PackageFile: ExpressionAtlas_1.35.0.zip PackageFileSize: 351 KiB