Package: ExpressionAtlas Version: 1.35.0 Command: chmod a+r ExpressionAtlas -R && E:\biocbuild\bbs-3.21-bioc\R\bin\R.exe CMD build --keep-empty-dirs --no-resave-data ExpressionAtlas StartedAt: 2025-02-09 18:39:44 -0500 (Sun, 09 Feb 2025) EndedAt: 2025-02-09 18:40:21 -0500 (Sun, 09 Feb 2025) EllapsedTime: 37.5 seconds RetCode: 0 Status: OK PackageFile: ExpressionAtlas_1.35.0.tar.gz PackageFileSize: 319 KiB