Package: ExpressionAtlas Version: 1.35.0 Command: E:\biocbuild\bbs-3.21-bioc\R\bin\R.exe CMD check --no-multiarch --install=check:ExpressionAtlas.install-out.txt --library=E:\biocbuild\bbs-3.21-bioc\R\library --no-vignettes --timings ExpressionAtlas_1.35.0.tar.gz StartedAt: 2025-02-04 01:28:11 -0500 (Tue, 04 Feb 2025) EndedAt: 2025-02-04 01:32:22 -0500 (Tue, 04 Feb 2025) EllapsedTime: 250.9 seconds RetCode: 0 Status: OK CheckDir: ExpressionAtlas.Rcheck Warnings: 0