Package: FEAST Version: 1.15.0 Command: /Library/Frameworks/R.framework/Resources/bin/R CMD check --install=check:FEAST.install-out.txt --library=/Library/Frameworks/R.framework/Resources/library --no-vignettes --timings FEAST_1.15.0.tar.gz StartedAt: 2025-02-04 19:14:29 -0500 (Tue, 04 Feb 2025) EndedAt: 2025-02-04 19:15:45 -0500 (Tue, 04 Feb 2025) EllapsedTime: 75.9 seconds RetCode: 0 Status: OK CheckDir: FEAST.Rcheck Warnings: 0