Package: FEAST Version: 1.15.0 Command: /home/biocbuild/R/R/bin/R CMD INSTALL FEAST StartedAt: 2025-01-29 20:07:19 -0000 (Wed, 29 Jan 2025) EndedAt: 2025-01-29 20:07:58 -0000 (Wed, 29 Jan 2025) EllapsedTime: 39.1 seconds RetCode: 0 Status: OK