Package: FEAST Version: 1.15.0 Command: /Library/Frameworks/R.framework/Resources/bin/R CMD build --keep-empty-dirs --no-resave-data FEAST StartedAt: 2025-02-04 16:41:29 -0500 (Tue, 04 Feb 2025) EndedAt: 2025-02-04 16:42:42 -0500 (Tue, 04 Feb 2025) EllapsedTime: 73.2 seconds RetCode: 0 Status: OK PackageFile: FEAST_1.15.0.tar.gz PackageFileSize: 3.456 MiB