Package: FEAST Version: 1.15.0 Command: rm -rf FEAST.buildbin-libdir && mkdir FEAST.buildbin-libdir && E:\biocbuild\bbs-3.21-bioc\R\bin\R.exe CMD INSTALL --build --library=FEAST.buildbin-libdir FEAST_1.15.0.tar.gz StartedAt: 2025-02-05 07:56:18 -0500 (Wed, 05 Feb 2025) EndedAt: 2025-02-05 07:56:59 -0500 (Wed, 05 Feb 2025) EllapsedTime: 40.8 seconds RetCode: 0 Status: OK PackageFile: FEAST_1.15.0.zip PackageFileSize: 4.412 MiB