Package: FELLA Version: 1.27.0 Command: /Library/Frameworks/R.framework/Resources/bin/R CMD build --keep-empty-dirs --no-resave-data FELLA StartedAt: 2025-02-09 16:19:20 -0500 (Sun, 09 Feb 2025) EndedAt: 2025-02-09 16:30:51 -0500 (Sun, 09 Feb 2025) EllapsedTime: 690.6 seconds RetCode: 1 Status: ERROR PackageFile: None PackageFileSize: NA